BEGIN:VCALENDAR
VERSION:2.0
PRODID:icalendar-ruby
CALSCALE:GREGORIAN
METHOD:PUBLISH
BEGIN:VEVENT
DTSTAMP:20260420T135801Z
UID:5-398440@scottdalemennonite.tithelysetup5.com
DTSTART:20261018T173000Z
DTEND:20261018T183000Z
CLASS:PUBLIC
CREATED:20260420T053157
DESCRIPTION:Sunday Worship
LAST-MODIFIED:20260420T053157
LOCATION:
SUMMARY:Sunday Worship
URL;VALUE=URI:https://scottdalemennonite.tithelysetup5.com/events/sunday-wo
 rship/2026-10-18
END:VEVENT
END:VCALENDAR
