BEGIN:VCALENDAR
VERSION:2.0
PRODID:icalendar-ruby
CALSCALE:GREGORIAN
METHOD:PUBLISH
BEGIN:VEVENT
DTSTAMP:20260420T123934Z
UID:5-398439@scottdalemennonite.tithelysetup5.com
DTSTART:20261011T173000Z
DTEND:20261011T183000Z
CLASS:PUBLIC
CREATED:20260420T053157
DESCRIPTION:Sunday Worship
LAST-MODIFIED:20260420T053157
LOCATION:
SUMMARY:Sunday Worship
URL;VALUE=URI:https://scottdalemennonite.tithelysetup5.com/events/sunday-wo
 rship/2026-10-11
END:VEVENT
END:VCALENDAR
