BEGIN:VCALENDAR
VERSION:2.0
PRODID:icalendar-ruby
CALSCALE:GREGORIAN
METHOD:PUBLISH
BEGIN:VEVENT
DTSTAMP:20260420T063503Z
UID:5-397913@scottdalemennonite.tithelysetup5.com
DTSTART:20260913T173000Z
DTEND:20260913T183000Z
CLASS:PUBLIC
CREATED:20260419T212130
DESCRIPTION:Sunday Worship
LAST-MODIFIED:20260419T212130
LOCATION:
SUMMARY:Sunday Worship
URL;VALUE=URI:https://scottdalemennonite.tithelysetup5.com/events/sunday-wo
 rship/2026-09-13
END:VEVENT
END:VCALENDAR
