BEGIN:VCALENDAR
VERSION:2.0
PRODID:icalendar-ruby
CALSCALE:GREGORIAN
METHOD:PUBLISH
BEGIN:VEVENT
DTSTAMP:20260420T033612Z
UID:5-397650@scottdalemennonite.tithelysetup5.com
DTSTART:20260830T173000Z
DTEND:20260830T183000Z
CLASS:PUBLIC
CREATED:20260419T174433
DESCRIPTION:Sunday Worship
LAST-MODIFIED:20260419T174433
LOCATION:
SUMMARY:Sunday Worship
URL;VALUE=URI:https://scottdalemennonite.tithelysetup5.com/events/sunday-wo
 rship/2026-08-30
END:VEVENT
END:VCALENDAR
