BEGIN:VCALENDAR
VERSION:2.0
PRODID:icalendar-ruby
CALSCALE:GREGORIAN
METHOD:PUBLISH
BEGIN:VEVENT
DTSTAMP:20260419T174917Z
UID:5-397122@scottdalemennonite.tithelysetup5.com
DTSTART:20260712T173000Z
DTEND:20260712T183000Z
CLASS:PUBLIC
CREATED:20260419T102019
DESCRIPTION:Sunday Worship
LAST-MODIFIED:20260419T102019
LOCATION:
SUMMARY:Sunday Worship
URL;VALUE=URI:https://scottdalemennonite.tithelysetup5.com/events/sunday-wo
 rship/2026-07-12
END:VEVENT
END:VCALENDAR
