BEGIN:VCALENDAR
VERSION:2.0
PRODID:icalendar-ruby
CALSCALE:GREGORIAN
METHOD:PUBLISH
BEGIN:VEVENT
DTSTAMP:20260419T150810Z
UID:5-396860@scottdalemennonite.tithelysetup5.com
DTSTART:20260628T173000Z
DTEND:20260628T183000Z
CLASS:PUBLIC
CREATED:20260419T063826
DESCRIPTION:Sunday Worship
LAST-MODIFIED:20260419T063826
LOCATION:
SUMMARY:Sunday Worship
URL;VALUE=URI:https://scottdalemennonite.tithelysetup5.com/events/sunday-wo
 rship/2026-06-28
END:VEVENT
END:VCALENDAR
